BEGIN:VCALENDAR
VERSION:2.0
PRODID:-//hacksw/handcal//NONSGML v1.0//EN
BEGIN:VEVENT
SUMMARY:Challenge Seniors UCUP 2026 - Golf d'APREMONT
UID:5860a1d1-a9a5-42d8-bad7-f29b9eb95b97
DTSTART:20261006T070000Z
DTEND:20261006T143000Z
LOCATION:Localisation D606E 60300 Apremont
CATEGORIES:Sportif
STATUS:
DESCRIPTION:<p>Competition en Stableford individuel</p>
 
 <p>Departs
 en Shotgun a 9h00</p>
 
 <p>Index superieur a 36 ramene a 36 pour le
 classement de la competition</p>
 
 <p>Repas a l'issue de la
 competition</p>
 
 <p>Participation: 30€</p>
URL;VALUE=URI:https://www.ibmgolf.fr/evenements/2026/10/06/challenge-seniors-ucup-2026-golf-dapremont-2439996
END:VEVENT
END:VCALENDAR
